BEGIN:VCALENDAR
VERSION:2.0
PRODID:https://www.igivratislavice.cz
X-WR-CALNAME:igivratislavice.cz
X-WR-TIMEZONE:Europe/Prague
BEGIN:VTIMEZONE
TZID:Europe/Prague
X-LIC-LOCATION:Europe/Prague
END:VTIMEZONE
BEGIN:VEVENT
UID:69ea51436748d
DTSTART:20260521T150000Z
SEQUENCE:0
TRANSP:OPAQUE
DTEND:20260521T163000Z
URL:https://www.igivratislavice.cz/kino-hranice-vernosti
LOCATION:Nad Školou 342\, 463 11\, Liberec\, Česká Republika
SUMMARY:Kino: HRANICE VĚRNOSTI
CLASS:PUBLIC
DTSTAMP:20260423T170507Z
END:VEVENT
END:VCALENDAR