BEGIN:VCALENDAR
VERSION:2.0
PRODID:https://www.igivratislavice.cz
X-WR-CALNAME:igivratislavice.cz
X-WR-TIMEZONE:Europe/Prague
BEGIN:VTIMEZONE
TZID:Europe/Prague
X-LIC-LOCATION:Europe/Prague
END:VTIMEZONE
BEGIN:VEVENT
UID:69ea519232a5a
DTSTART:20260517T080000Z
SEQUENCE:0
TRANSP:OPAQUE
DTEND:20260517T093000Z
URL:https://www.igivratislavice.cz/filmova-pohadka-na-skok-do-divociny
LOCATION:Nad Školou 342\, 463 11\, Liberec\, Česká Republika
SUMMARY:Filmová pohádka: NA SKOK DO DIVOČINY
CLASS:PUBLIC
DTSTAMP:20260423T170626Z
END:VEVENT
END:VCALENDAR