BEGIN:VCALENDAR
VERSION:2.0
PRODID:https://www.igivratislavice.cz
X-WR-CALNAME:igivratislavice.cz
X-WR-TIMEZONE:Europe/Prague
BEGIN:VTIMEZONE
TZID:Europe/Prague
X-LIC-LOCATION:Europe/Prague
END:VTIMEZONE
BEGIN:VEVENT
UID:69e90b5a3982d
DTSTART:20260521T170000Z
SEQUENCE:0
TRANSP:OPAQUE
DTEND:20260521T183000Z
URL:https://www.igivratislavice.cz/kino-star-wars-mandalorian-a-grogu
LOCATION:Nad Školou 342\, 463 11\, Liberec\, Česká Republika
SUMMARY:Kino: STAR WARS - MANDALORIAN A GROGU
CLASS:PUBLIC
DTSTAMP:20260422T175434Z
END:VEVENT
END:VCALENDAR