BEGIN:VCALENDAR
VERSION:2.0
PRODID:https://www.igivratislavice.cz
X-WR-CALNAME:igivratislavice.cz
X-WR-TIMEZONE:Europe/Prague
BEGIN:VTIMEZONE
TZID:Europe/Prague
X-LIC-LOCATION:Europe/Prague
END:VTIMEZONE
BEGIN:VEVENT
UID:69eb62ffd4a76
DTSTART:20260521T120000Z
SEQUENCE:0
TRANSP:OPAQUE
DTEND:20260521T133000Z
URL:https://www.igivratislavice.cz/film-pro-seniory-prani-k-narozeninam-krt
 iny
LOCATION:Nad Školou 342\, 463 11\, Liberec\, Česká Republika
SUMMARY:Film pro seniory: PŘÁNÍ K NAROZENINÁM - KŘTINY
CLASS:PUBLIC
DTSTAMP:20260424T123303Z
END:VEVENT
END:VCALENDAR