BEGIN:VCALENDAR
VERSION:2.0
PRODID:https://www.igivratislavice.cz
X-WR-CALNAME:igivratislavice.cz
X-WR-TIMEZONE:Europe/Prague
BEGIN:VTIMEZONE
TZID:Europe/Prague
X-LIC-LOCATION:Europe/Prague
END:VTIMEZONE
BEGIN:VEVENT
UID:69e8bfc73b5ba
DTSTART:20260514T170000Z
SEQUENCE:0
TRANSP:OPAQUE
DTEND:20260514T183000Z
URL:https://www.igivratislavice.cz/kino-elon-a-pokusni-kralici
LOCATION:Nad Školou 342\, 463 11\, Liberec\, Česká Republika
SUMMARY:Kino: ELON A POKUSNÍ KRÁLÍCI
CLASS:PUBLIC
DTSTAMP:20260422T123207Z
END:VEVENT
END:VCALENDAR