BEGIN:VCALENDAR
VERSION:2.0
PRODID:https://www.igivratislavice.cz
X-WR-CALNAME:igivratislavice.cz
X-WR-TIMEZONE:Europe/Prague
BEGIN:VTIMEZONE
TZID:Europe/Prague
X-LIC-LOCATION:Europe/Prague
END:VTIMEZONE
BEGIN:VEVENT
UID:69e8bfa332462
DTSTART:20260514T150000Z
SEQUENCE:0
TRANSP:OPAQUE
DTEND:20260514T163000Z
URL:https://www.igivratislavice.cz/kino-farma-zvirat
LOCATION:Nad Školou 342\, 463 11\, Liberec\, Česká Republika
SUMMARY:Kino: FARMA ZVÍŘAT
CLASS:PUBLIC
DTSTAMP:20260422T123131Z
END:VEVENT
END:VCALENDAR