BEGIN:VCALENDAR
VERSION:2.0
PRODID:https://www.igivratislavice.cz
X-WR-CALNAME:igivratislavice.cz
X-WR-TIMEZONE:Europe/Prague
BEGIN:VTIMEZONE
TZID:Europe/Prague
X-LIC-LOCATION:Europe/Prague
END:VTIMEZONE
BEGIN:VEVENT
UID:69e8bdb863855
DTSTART:20260507T170000Z
SEQUENCE:0
TRANSP:OPAQUE
DTEND:20260507T183000Z
URL:https://www.igivratislavice.cz/kino-zmizeni-josefa-mengeleho
LOCATION:Nad Školou 342\, 463 11\, Liberec\, Česká Republika
SUMMARY:Kino: ZMIZENÍ JOSEFA MENGELEHO
CLASS:PUBLIC
DTSTAMP:20260422T122320Z
END:VEVENT
END:VCALENDAR