BEGIN:VCALENDAR
VERSION:2.0
PRODID:https://www.igivratislavice.cz
X-WR-CALNAME:igivratislavice.cz
X-WR-TIMEZONE:Europe/Prague
BEGIN:VTIMEZONE
TZID:Europe/Prague
X-LIC-LOCATION:Europe/Prague
END:VTIMEZONE
BEGIN:VEVENT
UID:69e90e01273f5
DTSTART:20260507T150000Z
SEQUENCE:0
TRANSP:OPAQUE
DTEND:20260507T163000Z
URL:https://www.igivratislavice.cz/kino-bee-team-na-stope
LOCATION:Nad Školou 342\, 463 11\, Liberec\, Česká Republika
SUMMARY:Kino: BÉÉ TEAM NA STOPĚ
CLASS:PUBLIC
DTSTAMP:20260422T180553Z
END:VEVENT
END:VCALENDAR